BEGIN:VCALENDAR
VERSION:2.0
PRODID:-//Library Market//iCal Export//EN
BEGIN:VEVENT
SUMMARY:class of 66 reunion meeting
UID:3571
DTSTAMP:20260424T040100Z
DTSTART:20260430T213000Z
DTEND:20260430T223000Z
LOCATION:Franklin County, 38 First Street, PO Box 336, Meadville, MS 39653
 , United States
ROOM: James Nix Meeting Room
DESCRIPTION:
URL:https://www.llf.lib.ms.us/event/class-66-reunion-meeting-3571
END:VEVENT
END:VCALENDAR
